BEGIN:VCALENDAR
VERSION:2.0
PRODID:-//Plone.org//NONSGML plone.app.event//EN
X-WR-TIMEZONE:America/Los_Angeles
BEGIN:VEVENT
SUMMARY:ECOSTRESS Science and Application Team Meeting - Fall 2025
DTSTART;TZID=America/Los_Angeles;VALUE=DATE-TIME:20250916T073000
DTEND;TZID=America/Los_Angeles;VALUE=DATE-TIME:20250918T170000
DTSTAMP;VALUE=DATE-TIME:20260421T173938Z
UID:0672625bffb741bb992706944dc36a65@127.0.0.1:8080
CREATED;VALUE=DATE-TIME:20250428T190504Z
LAST-MODIFIED;VALUE=DATE-TIME:20250926T135229Z
LOCATION:Pasadena\, CA / Hybrid
URL:https://ecostress.jpl.nasa.gov/events/ecostress-satm-2025
END:VEVENT
BEGIN:VTIMEZONE
TZID:America/Los_Angeles
X-LIC-LOCATION:America/Los_Angeles
BEGIN:DAYLIGHT
DTSTART;VALUE=DATE-TIME:20250309T030000
TZNAME:PDT
TZOFFSETFROM:-0800
TZOFFSETTO:-0700
END:DAYLIGHT
END:VTIMEZONE
END:VCALENDAR
