BEGIN:VCALENDAR
VERSION:2.0
PRODID:-//Plone.org//NONSGML plone.app.event//EN
X-WR-TIMEZONE:America/Los_Angeles
BEGIN:VEVENT
SUMMARY:ECOSTRESS Science and Application Team Meeting - Fall 2022
DTSTART;TZID=America/Los_Angeles;VALUE=DATE-TIME:20221115T000000
DTEND;TZID=America/Los_Angeles;VALUE=DATE-TIME:20221117T090000
DTSTAMP;VALUE=DATE-TIME:20260423T143329Z
UID:5155beb658af4e4dbc3d1b582954ac00@127.0.0.1:8080
CREATED;VALUE=DATE-TIME:20240105T004526Z
LAST-MODIFIED;VALUE=DATE-TIME:20240716T215737Z
URL:https://ecostress.jpl.nasa.gov/events/ecostress-science-and-applicatio
 n-team-meeting-fall-2022
END:VEVENT
BEGIN:VTIMEZONE
TZID:America/Los_Angeles
X-LIC-LOCATION:America/Los_Angeles
BEGIN:STANDARD
DTSTART;VALUE=DATE-TIME:20221106T010000
TZNAME:PST
TZOFFSETFROM:-0700
TZOFFSETTO:-0800
END:STANDARD
END:VTIMEZONE
END:VCALENDAR
