BEGIN:VCALENDAR
VERSION:2.0
PRODID:-//Plone.org//NONSGML plone.app.event//EN
X-WR-TIMEZONE:America/Los_Angeles
BEGIN:VEVENT
SUMMARY:ECOSTRESS Science and Application Team Meeting - Fall 2023
DTSTART;TZID=America/Los_Angeles;VALUE=DATE-TIME:20231017T010000
DTEND;TZID=America/Los_Angeles;VALUE=DATE-TIME:20231019T060000
DTSTAMP;VALUE=DATE-TIME:20260422T200241Z
UID:30cfac94bd454ad39243cae63d600c9f@127.0.0.1:8080
CREATED;VALUE=DATE-TIME:20240105T004526Z
LAST-MODIFIED;VALUE=DATE-TIME:20240718T002904Z
LOCATION:Ventura CA
URL:https://ecostress.jpl.nasa.gov/events/ecostress-science-and-applicatio
 n-team-meeting-fall-2023
END:VEVENT
BEGIN:VTIMEZONE
TZID:America/Los_Angeles
X-LIC-LOCATION:America/Los_Angeles
BEGIN:DAYLIGHT
DTSTART;VALUE=DATE-TIME:20230312T030000
TZNAME:PDT
TZOFFSETFROM:-0800
TZOFFSETTO:-0700
END:DAYLIGHT
END:VTIMEZONE
END:VCALENDAR
