BEGIN:VCALENDAR
VERSION:2.0
PRODID:-//Plone.org//NONSGML plone.app.event//EN
X-WR-TIMEZONE:America/Los_Angeles
BEGIN:VEVENT
SUMMARY:Surface Biology and Geology Community WOrkshop
DTSTART;TZID=America/Los_Angeles;VALUE=DATE-TIME:20190612T150500
DTEND;TZID=America/Los_Angeles;VALUE=DATE-TIME:20190614T150500
DTSTAMP;VALUE=DATE-TIME:20260421T234430Z
UID:7792db8d84514bc7b7f1e7a5d6ffb122@127.0.0.1:8080
CONTACT:Lisa Henderson\, lisa.henderson@nasa.gov
CREATED;VALUE=DATE-TIME:20240105T004526Z
LAST-MODIFIED;VALUE=DATE-TIME:20240716T215737Z
LOCATION:Washington DC
URL:https://ecostress.jpl.nasa.gov/events/surface-biology-and-geology-comm
 unity-workshop
END:VEVENT
BEGIN:VTIMEZONE
TZID:America/Los_Angeles
X-LIC-LOCATION:America/Los_Angeles
BEGIN:DAYLIGHT
DTSTART;VALUE=DATE-TIME:20190310T030000
TZNAME:PDT
TZOFFSETFROM:-0800
TZOFFSETTO:-0700
END:DAYLIGHT
END:VTIMEZONE
END:VCALENDAR
